BEGIN:VCALENDAR
VERSION:2.0
PRODID:-//eventon.com NONSGML v1.0//EN
CALSCALE:GREGORIAN
METHOD:PUBLISH
BEGIN:VEVENT
UID:69e8a180061b4
DTSTAMP:20260422T102256Z
DTSTART:20260307T210000Z
DTEND:20260308T000000Z
LOCATION:
SUMMARY:Trail Care Shenanigans - Eastern Escarpment Mt Cotton
DESCRIPTION:Trail Care Shenanigans - Eastern Escarpment Mt Cotton\nhttps://
 www.ratscc.com.au/events/trail-care-shenanigans-easter-escarpment-mount-cot
 ton/
URL:https://www.ratscc.com.au/events/trail-care-shenanigans-easter-escarpment-mount-cotton/
END:VEVENT
END:VCALENDAR